Workbook

Sheet Anleitung
A1: Berechnung von Lager-, Rüst-, Pack- und Transportkosten
A4: Dieses Tool dient als Hilfsmittel für die Berechnung von Lager-, Rüst-, Pack- und Transportkosten. Es soll helfen, die anfallenden Kosten nach der Ernte bis zum Abnehmer pro kg zu beziffern.
A6: Anleitung:
A7: Die Berechnung ist in sechsTabellenblätter unterteilt:
A8: Tabellenblatt 1: Grunddaten und Gebäudekosten: Hier werden allgemeine Daten und Gebäudekosten eingegeben.
A9: Tabellenblatt 2: Lagerkosten: Hier werden die Kosten für die Lagerung eingegeben. Betrachtet wird der Aufwand ab dem Ablad der geernteten Ware auf dem Betrieb bis zum erneuten Verladen bei der Auslagerung bzw. bis vor dem Abrüsten/Abpacken.
A10: Tabellenblatt 3: Rüstkosten: Hier werden die Kosten für das Rüsten der Ware eingegeben. Betrachtet wird der Aufwand ab dem Ablad der geernteten Ware auf dem Betrieb bzw. nach dem Auslagern der Ware aus dem Kühler bis zum erneuten Verladen oder dem Abrüsten/Abpacken.
A11: Tabellenblatt 4: Packkosten: Hier werden die Kosten für das Verpacken der Ware erfasst. Betrachtet wird der Aufwand nach dem Ablad/Auslagern/Abrüsten bis die Ware bereit für die Auslieferung ist.
A12: Tabellenblatt 5: Transportkosten: Hier werden die Kosten für den Transport erfasst. Betrachtet wird der Aufwand ab dem Warenausgangskühler/-lager bis zur Rampe des Abnehmers.
A13: Tabellenblatt 6: Auswertung: Hier ist die Zusammenstellung der Ergebnisse ersichtlich.
A16: Eine Eingabe von Daten ist lediglich bei den | D16: grünen Feldern | E16: erforderlich.
A17: Achten Sie bei der Eingabe der Daten auf die jeweilige Einheit.
B21: Impressunm:
B22: INFORAMA Seeland, Herrenhalde 80, 3232 Ins
B23: 031 636 92 35 / stefan.wyss@be.ch
B24: Version: 1.3
B26: Dies ist eine Publikation im Rahmen des Projekts "Betriebswirtschaftliche Unterstützung für den Gemüsebau 2015-17" der SZG.

Sheet 1_Grunddaten_Gebäudekosten
A1: Grunddaten und Gebäudekosten
A4: Stundenansatz Betriebsleiter (Fr./h) | D4: 40 | E4: Fr./h
A5: Stundenansatz ausgebildeter Facharbeiter (Fr./h) | D5: 30 | E5: Fr./h
A6: Stundenansatz Arbeiter ohne Fachausbildung (Fr./h) | D6: 22 | E6: Fr./h
A8: Kosten Gablestapler | D8: 19 | E8: Fr./h
A10: Zinssatz | D10: 3 | E10: %
A12: Gebäudekosten (ohne Einrichtung)
F13: Abrüsten | G13: Packen | H13: Waren-ausgang | I13: Lagerung | J13: Weitere Nutzung | K13: Total
B14: Gebäude mit Rüstraum/Packmaschine (ohne Einrichtung) | F14: 0.3 | G14: 0.4 | H14: 0.15 | I14: 0 | J14: 0.15 | K14: =SUM(F14:J14) -> 1
C15: Investitionskosten Rohbau (ohne Einrichtung) | D15: 200000 | E15: Fr. | F15: =$K15*F$14 -> 3000 | G15: =$K15*G$14 -> 4000 | H15: =$K15*H$14 -> 1500 | I15: =$K15*I$14 -> 0 | J15: =$K15*J$14 -> 1500 | K15: =D15/D16 -> 10000
C16: Abschreibedauer | D16: 20 | E16: Jahre
C17: Unterhalt | D17: 3000 | E17: Fr./Jahr | F17: =$K17*F$14 -> 900 | G17: =$K17*G$14 -> 1200 | H17: =$K17*H$14 -> 450 | I17: =$K17*I$14 -> 0 | J17: =$K17*J$14 -> 450 | K17: =D17 -> 3000
C18: Zinskosten | D18: =D15*D10/100*0.6 -> 3600 | E18: Fr./Jahr | F18: =$K18*F$14 -> 1080 | G18: =$K18*G$14 -> 1440 | H18: =$K18*H$14 -> 540 | I18: =$K18*I$14 -> 0 | J18: =$K18*J$14 -> 540 | K18: =D18 -> 3600
C19: Versicherung | D19: 200 | E19: Fr./Jahr | F19: =$K19*F$14 -> 60 | G19: =$K19*G$14 -> 80 | H19: =$K19*H$14 -> 30 | I19: =$K19*I$14 -> 0 | J19: =$K19*J$14 -> 30 | K19: =D19 -> 200
C20: Übrige Kosten | D20: 500 | E20: Fr./Jahr | F20: =$K20*F$14 -> 150 | G20: =$K20*G$14 -> 200 | H20: =$K20*H$14 -> 75 | I20: =$K20*I$14 -> 0 | J20: =$K20*J$14 -> 75 | K20: =D20 -> 500
B22: Gebäude mit Lagerung (falls anderes Gebäude) | F22: 0 | G22: 0 | H22: 0 | I22: 0.8 | J22: 0.2 | K22: =SUM(F22:J22) -> 1
C23: Investitionskosten Rohbau (ohne Einrichtung) | D23: 145000 | E23: Fr. | F23: =$K23*F$22 -> 0 | G23: =$K23*G$22 -> 0 | H23: =$K23*H$22 -> 0 | I23: =$K23*I$22 -> 5800 | J23: =$K23*J$22 -> 1450 | K23: =D23/D24 -> 7250
C24: Abschreibedauer | D24: 20 | E24: Jahre
C25: Unterhalt | D25: 2200 | E25: Fr./Jahr | F25: =$K25*F$22 -> 0 | G25: =$K25*G$22 -> 0 | H25: =$K25*H$22 -> 0 | I25: =$K25*I$22 -> 1760 | J25: =$K25*J$22 -> 440 | K25: =D25 -> 2200
C26: Zinskosten | D26: =D23*0.6*D10/100 -> 2610 | E26: Fr./Jahr | F26: =$K26*F$22 -> 0 | G26: =$K26*G$22 -> 0 | H26: =$K26*H$22 -> 0 | I26: =$K26*I$22 -> 2088 | J26: =$K26*J$22 -> 522 | K26: =D26 -> 2610
C27: Versicherung | D27: 145 | E27: Fr./Jahr | F27: =$K27*F$22 -> 0 | G27: =$K27*G$22 -> 0 | H27: =$K27*H$22 -> 0 | I27: =$K27*I$22 -> 116 | J27: =$K27*J$22 -> 29 | K27: =D27 -> 145
C28: Übrige Kosten | D28: 100 | E28: Fr./Jahr | F28: =$K28*F$22 -> 0 | G28: =$K28*G$22 -> 0 | H28: =$K28*H$22 -> 0 | I28: =$K28*I$22 -> 80 | J28: =$K28*J$22 -> 20 | K28: =D28 -> 100
A30: Stromkosten
F31: Abrüsten | G31: Packen | H31: Waren-ausgang | I31: Lagerung | J31: Weitere Nutzung | K31: Total
B32: Stromkosten total | D32: 5000 | E32: Fr./Jahr | F32: 0.05 | G32: 0.25 | H32: 0.15 | I32: 0.4 | J32: 0.15 | K32: =SUM(F32:J32) -> 1
F33: =$D$32*F32 -> 250 | G33: =$D$32*G32 -> 1250 | H33: =$D$32*H32 -> 750 | I33: =$D$32*I32 -> 2000 | J33: =$D$32*J32 -> 750 | K33: =SUM(F33:J33) -> 5000

Sheet 2_Lagerkosten
A1: Lagerkosten | E1: Produkt: | F1: Zwiebeln im 1-kg-Netz
A3: Menge und Ausbeute | E3: Menge | F3: Einheit
B4: Eingelagerte Menge Produkt 1 | E4: 300 | F4: t
B5: Ausgelagerte Ware Produkt 1 | E5: 275 | F5: t
B6: Anteil Produkt 1 an allen Lagerprodukten | E6: 70 | F6: %
A8: Arbeit | E8: Betriebsleiter | G8: Vorarbeiter | I8: Angestellter | L8: CHF
E9: h | F9: Kosten | G9: h | H9: Kosten | I9: h | J9: Kosten | L9: Total | M9: pro kg
B10: Arbeitskosten | L10: =SUM(F11:F13,H11:H13,J11:J13) -> 1764 | M10: =L10/E5/1000 -> 0.0064145455
C11: Einlagerung | E11: 4 | F11: =E11*'1_Grunddaten_Gebäudekosten'!D$4 -> 160 | G11: 0 | H11: =G11*'1_Grunddaten_Gebäudekosten'!D$5 -> 0 | I11: 23 | J11: =I11*'1_Grunddaten_Gebäudekosten'!D$6 -> 506
C12: Kontrolle und weitere Arbeiten | E12: 5 | F12: =E12*'1_Grunddaten_Gebäudekosten'!D$4 -> 200 | G12: 0 | H12: =G12*'1_Grunddaten_Gebäudekosten'!D$5 -> 0 | I12: 15 | J12: =I12*'1_Grunddaten_Gebäudekosten'!D$6 -> 330
C13: Auslagerung | E13: 1 | F13: =E13*'1_Grunddaten_Gebäudekosten'!D$4 -> 40 | G13: 0 | H13: =G13*'1_Grunddaten_Gebäudekosten'!D$5 -> 0 | I13: 24 | J13: =I13*'1_Grunddaten_Gebäudekosten'!D$6 -> 528
A16: Maschinen | E16: Gabelstapler | F16: Weitere | L16: CHF
E17: h | F17: Kosten | L17: Total | M17: pro kg
B18: Maschinenkosten (pro Jahr) | L18: =SUM(F19:F21) -> 1159 | M18: =L18/E5/1000 -> 0.0042145455
C19: Einlagerung | E19: 21 | F19: =E19*'1_Grunddaten_Gebäudekosten'!D$8 -> 399
C20: Kontrolle und Umlagerung | E20: 16 | F20: =E20*'1_Grunddaten_Gebäudekosten'!D$8 -> 304
C21: Auslagerung | E21: 24 | F21: =E21*'1_Grunddaten_Gebäudekosten'!D$8 -> 456
A23: Infrastruktur und Einrichtung | E23: Kosten | F23: Einheit | L23: CHF
L24: Total | M24: pro kg
B25: Gebäudekosten pro Jahr | E25: =SUM('1_Grunddaten_Gebäudekosten'!I15:I20,'1_Grunddaten_Gebäudekosten'!I23:I28) -> 9844 | F25: Fr./Jahr | L25: =E25*E6/100 -> 6890.8 | M25: =L25/E5/1000 -> 0.025057455
B27: Einrichtungen und Installationen (ohne Gebäudehülle) | L27: =SUM(E28,E31,E32)*E6/100 -> 15802.5 | M27: =L27/E5/1000 -> 0.057463636
C28: Abschreibung | E28: =E29/E30 -> 17500 | F28: Fr./Jahr
D29: Investitionskosten | E29: 175000 | F29: Fr.
D30: Abschreibedauer Einrichtung | E30: 10 | F30: Jahre
C31: Hilfsmittel (Kühlmittel, Wasser, CO2) | E31: 3075 | F31: Fr./Jahr
C32: Wartung | E32: 2000 | F32: Fr./Jahr
A34: Hilfsmittel und übrige Kosten | E34: Kosten | F34: Einheit | L34: CHF
L35: Total | M35: pro kg
B36: Energie | L36: =SUM(E37:E38)*E6/100 -> 1400 | M36: =L36/E5/1000 -> 0.0050909091
C37: Strom | E37: ='1_Grunddaten_Gebäudekosten'!I33 -> 2000 | F37: Fr./Jahr
C38: Weitere | E38: 0 | F38: Fr./Jahr
B40: Gebindeanteil | L40: =SUM(E41,E44,E45)*E6/100 -> 4147.5 | M40: =L40/E5/1000 -> 0.015081818
C41: Abschreibung | E41: =E42/E43 -> 5625 | F41: Fr./Jahr
D42: Investitionskosten für Gebinde in Lager | E42: 45000 | F42: Fr.
D43: Abschreibedauer | E43: 8 | F43: Jahre
C44: Verschleiss | E44: 200 | F44: Fr./Jahr
C45: Beschriftung/Etiketten | E45: 100 | F45: Fr./Jahr
B47: Kapitalkosten | L47: =SUM(E48:E49,E51) -> 6484.5 | M47: =L47/E5/1000 -> 0.02358
C48: Kapitalkosten Einrichtung | E48: =E29*0.6*'1_Grunddaten_Gebäudekosten'!D10/100*E6/100 -> 2205 | F48: Fr./Jahr
C49: Kapitakosten Lagergut | E49: =E5*1000*E50*'1_Grunddaten_Gebäudekosten'!D10/100 -> 3712.5 | F49: Fr./Jahr
...

Sheet 3_Rüstkosten
A1: Rüstkosten | E1: Produkt: | F1: ='2_Lagerkosten'!F1:G1 -> Zwiebeln im 1-kg-Netz
A3: Menge und Ausbeute | E3: Menge | F3: Einheit
B4: Ausgelagerte oder geerntete Ware Produkt 1 | E4: ='2_Lagerkosten'!E5 -> 275 | F4: t
B5: Verkaufsfähige Ware Produkt 1 | E5: 250 | F5: t
B6: Anteil Produkt 1 an allen gerüsteten Produkten | E6: 50 | F6: %
A8: Arbeit | E8: Betriebsleiter | G8: Vorarbeiter | I8: Angestellter | L8: CHF
E9: h | F9: Kosten | G9: h | H9: Kosten | I9: h | J9: Kosten | L9: Total | M9: pro kg
B10: Arbeitskosten | L10: =SUM(F11:F12,H11:H12,J11:J12) -> 4600 | M10: =L10/E5/1000 -> 0.0184
C11: Abrüsten | E11: 5 | F11: =E11*'1_Grunddaten_Gebäudekosten'!D$4 -> 200 | G11: 0 | H11: =G11*'1_Grunddaten_Gebäudekosten'!D$5 -> 0 | I11: 200 | J11: =I11*'1_Grunddaten_Gebäudekosten'!D$6 -> 4400
C12: Weitere Arbeiten | E12: 0 | F12: =E12*'1_Grunddaten_Gebäudekosten'!D$4 -> 0 | G12: 0 | H12: =G12*'1_Grunddaten_Gebäudekosten'!D$5 -> 0 | I12: 0 | J12: =I12*'1_Grunddaten_Gebäudekosten'!D$6 -> 0
A15: Maschinen | E15: Gabelstapler | F15: Weitere | L15: CHF
E16: h | F16: Kosten | L16: Total | M16: pro kg
B17: Maschinenkosten (pro Jahr) | E17: 20 | F17: =E17*'1_Grunddaten_Gebäudekosten'!D$8 -> 380 | L17: =F17 -> 380 | M17: =L17/E5/1000 -> 0.00152
A19: Infrastruktur und Einrichtung | E19: Kosten | F19: Einheit | L19: CHF
L20: Total | M20: pro kg
B21: Gebäudekosten pro Jahr | E21: =SUM('1_Grunddaten_Gebäudekosten'!F15:F20,'1_Grunddaten_Gebäudekosten'!F23:F28) -> 5190 | F21: Fr./Jahr | L21: =E21*E6/100 -> 2595 | M21: =L21/E5/1000 -> 0.01038
B23: Einrichtungen und Installationen (ohne Gebäudehülle) | L23: =SUM(E24,E27)*E6/100 -> 3083.3333 | M23: =L23/E5/1000 -> 0.012333333
C24: Abschreibung | E24: =E25/E26 -> 4166.6667 | F24: Fr./Jahr
D25: Investitionskosten | E25: 50000 | F25: Fr.
D26: Abschreibedauer Einrichtung | E26: 12 | F26: Jahre
C27: Wartung | E27: 2000 | F27: Fr./Jahr
A29: Hilfsmittel und übrige Kosten | E29: Kosten | F29: Einheit | L29: CHF
L30: Total | M30: pro kg
B31: Energie | L31: =SUM(E32:E33)*E6/100 -> 125 | M31: =L31/E5/1000 -> 0.0005
C32: Strom | E32: ='1_Grunddaten_Gebäudekosten'!F33 -> 250 | F32: Fr./Jahr
C33: Weitere | E33: 0 | F33: Fr./Jahr
B35: Kapitalkosten Einrichtung | E35: =E25*0.6*'1_Grunddaten_Gebäudekosten'!D10/100 -> 900 | F35: Fr./Jahr | L35: =E35*E6/100 -> 450 | M35: =L35/E5/1000 -> 0.0018
B37: Übrige Kosten | L37: =SUM(E38:E39)*E6/100 -> 0 | M37: =L37/E5/1000 -> 0
C38: Entsorgungskosten Rüstabfälle | E38: 0 | F38: Fr./Jahr
C39: Weitere Kosten | E39: 0 | F39: Fr./Jahr
L40: Total | M40: pro kg
A41: Total Rüstkosten | L41: =SUM(L10,L17,L21,L23,L31,L35,L37) -> 11233.333 | M41: =SUM(M10,M17,M21,M23,M31,M35,M37) -> 0.044933333

Sheet 4_Packkosten
A1: Packkosten | F1: Produkt: | G1: ='2_Lagerkosten'!F1 -> Zwiebeln im 1-kg-Netz
A3: Grunddaten
B4: Menge pro Verpackungseinheit | F4: 1 | G4: kg/Packung
B5: Total verpackte Menge auf Maschine (Produkt 1) | F5: ='3_Rüstkosten'!E5*1000 -> 250000 | G5: kg/Jahr
B6: Durchschnittlicher Verkaufspreis (Produkt 1) | F6: 0.7 | G6: Fr./kg
B7: Auslastung total auf Maschine (alle Produkte) | F7: 350000 | G7: kg/Jahr
A9: Arbeit | F9: Betriebsleiter | H9: Vorarbeiter | J9: Angestellter | M9: CHF
F10: h | G10: Kosten | H10: h | I10: Kosten | J10: h | K10: Kosten | M10: Total | N10: Einheit | O10: pro kg
B11: Arbeitskosten | M11: =SUM(G12:G13,I12:I13,K12:K13)*F5/1000 -> 12500 | N11: =M11/(F5/F4) -> 0.05 | O11: =M11/F5 -> 0.05
C12: Verpacken (nach Rüsten bis in Ausgangskühler) | F12: 0.1 | G12: =F12*'1_Grunddaten_Gebäudekosten'!D4 -> 4 | H12: 0.2 | I12: =H12*'1_Grunddaten_Gebäudekosten'!D5 -> 6 | J12: 1.5 | K12: =J12*'1_Grunddaten_Gebäudekosten'!D6 -> 33
C13: Administration | F13: 0.1 | G13: =F13*'1_Grunddaten_Gebäudekosten'!D4 -> 4 | H13: 0.1 | I13: =H13*'1_Grunddaten_Gebäudekosten'!D5 -> 3 | J13: 0 | K13: =J13*'1_Grunddaten_Gebäudekosten'!D6 -> 0
C14: > jeweils für 1000 kg von Produkt 1
A16: Maschinen | F16: Gabelstapler | M16: CHF
F17: h | G17: Kosten | M17: Total | N17: Einheit | O17: pro kg
B18: Maschinenkosten (pro Jahr) | F18: 100 | G18: =F18*'1_Grunddaten_Gebäudekosten'!D8 -> 1900 | M18: =G18 -> 1900 | N18: =O18/F4 -> 0.0076 | O18: =M18/F5 -> 0.0076
A20: Infrastruktur und Einrichtung | M20: CHF
M21: Total | N21: Einheit | O21: pro kg
B22: Einrichtung und Installation | F22: ev. Bezeichnung Packmaschine | M22: =SUM(F23,F26:F29)/F7*F5 -> 14511.905 | N22: =O22*F4 -> 0.058047619 | O22: =M22/F5 -> 0.058047619
C23: Abschreibung | F23: =F24/F25 -> 16666.667 | G23: Fr./Jahr
D24: Investitionskosten | F24: 100000 | G24: Fr.
D25: Abschreibedauer | F25: 6 | G25: Jahre
C26: Wartung | F26: 500 | G26: Fr./Jahr
C27: Versicherung | F27: 100 | G27: Fr./Jahr
C28: Strom | F28: ='1_Grunddaten_Gebäudekosten'!G33 -> 1250 | G28: Fr./Jahr
C29: Kapitalkosten | F29: =F24*0.6*'1_Grunddaten_Gebäudekosten'!D10/100 -> 1800 | G29: Fr./Jahr
B31: Gebäudeanteil | M31: =F32*F33/100 -> 3460 | N31: =O31*F4 -> 0.01384 | O31: =M31/F5 -> 0.01384
C32: Kostenanteil Packhalle für alle Produkte | F32: =SUM('1_Grunddaten_Gebäudekosten'!G15:G20,'1_Grunddaten_Gebäudekosten'!G23:G28) -> 6920 | G32: Fr./Jahr
C33: Anteil Produkt 1 an allen abgepackten Produkten | F33: 50 | G33: %
C34: im Gebäude
A36: Hilfsmittel und übrige Kosten | M36: CHF
M37: Total | N37: Einheit | O37: pro kg
B38: Verkaufsgebinde | F38: 104 | G38: Fr./1000 kg | M38: =F38*F5/1000 -> 26000 | N38: =O38*F4 -> 0.104 | O38: =M38/F5 -> 0.104
B40: Verbrauchsmaterial | M40: =SUM(F41:F44)*F5/1000 -> 6250 | N40: =O40*F4 -> 0.025 | O40: =M40/F5 -> 0.025
C41: Folie (für 1000 kg) | F41: 0 | G41: Fr./1000 kg
C42: Gebinde-Etiketten (für 1000 kg) | F42: 5 | G42: Fr./1000 kg
C43: Produkte-Etiketten (für 1000 kg) | F43: 0 | G43: Fr./1000 kg
C44: Säcke, Netze, etc. (für 1000 kg) | F44: 20 | G44: Fr./1000 kg
B46: Hilfsstoffe | M46: =SUM(F47:F48)/F7*F5 -> 142.85714 | N46: =O46*F4 -> 0.00057142857 | O46: =M46/F5 -> 0.00057142857
C47: Wasser | F47: 200 | G47: Fr./Jahr
C48: Weitere | F48: 0 | G48: Fr./Jahr
...

Sheet 5_Transportkosten
A1: Transportkosten | E1: Produkt: | F1: ='2_Lagerkosten'!F1:G1 -> Zwiebeln im 1-kg-Netz
A3: Grunddaten
E4: ev. Bezeichnung LKW
C5: Gesamtgewicht LKW | E5: 18 | F5: t
C6: Euro-Norm LKW | E6: Euro 6
C7: Durchschnittliche Beladung (Produkt 1) | E7: 5000 | F7: kg
C8: Treibstoffverbrauch (l/100 km) | E8: 20 | F8: l/100 km
C9: Treibstoffpreis (Fr./l) | E9: 1.6 | F9: Fr./l
C10: Fahrdistanz zu Abnehmer (retour) | E10: 50 | F10: km
C11: Anzahl Lieferungen pro Jahr (Produkt 1) | E11: 100
C12: km pro Jahr mit LKW (total, alle Produkte) | E12: 20000 | F12: km
C13: Reparaturfaktor (%) | E13: 50 | F13: %
A15: Arbeit | E15: Betriebsleiter | G15: Vorarbeiter | I15: Angestellter | L15: CHF
E16: h | F16: Kosten | G16: h | H16: Kosten | I16: h | J16: Kosten | L16: pro Jahr | M16: Lieferung | N16: kg
B17: Arbeitskosten | L17: =M17*E11 -> 6050 | M17: =SUM(F18:F20,H18:H20,J18:J20) -> 60.5 | N17: =M17/E7 -> 0.0121
C18: Be- und Entladen (pro Lieferung) | E18: 0 | F18: =E18*'1_Grunddaten_Gebäudekosten'!D4 -> 0 | G18: 0 | H18: =G18*'1_Grunddaten_Gebäudekosten'!D5 -> 0 | I18: 1.5 | J18: =I18*'1_Grunddaten_Gebäudekosten'!D6 -> 33
C19: Fahrt (Hin- und zurück, pro Lieferung) | E19: 0 | F19: =E19*'1_Grunddaten_Gebäudekosten'!D4 -> 0 | G19: 0 | H19: =G19*'1_Grunddaten_Gebäudekosten'!D5 -> 0 | I19: 1 | J19: =I19*'1_Grunddaten_Gebäudekosten'!D6 -> 22
C20: Disposition (pro Lieferung) | E20: 0 | F20: =E20*'1_Grunddaten_Gebäudekosten'!D5 -> 0 | G20: 0.25 | H20: =G20*'1_Grunddaten_Gebäudekosten'!D6 -> 5.5 | I20: 0 | J20: =I20*'1_Grunddaten_Gebäudekosten'!D7 -> 0
A22: Fahrzeug | L22: CHF
L23: pro Jahr | M23: Lieferung | N23: kg
B24: Fixkosten pro Jahr | L24: =SUM(E25,E29,E30,E31)/E12*E11*E10 -> 6887.5 | M24: =N24*E7 -> 68.875 | N24: =L24/E7/E11 -> 0.013775
C25: Abschreibung | E25: =E26*(100-E28)/E27/100 -> 18750
D26: Anschaffungskosten | E26: 250000 | F26: Fr.
D27: Abschreibedauer | E27: 12 | F27: Jahre
D28: Restwert | E28: 10 | F28: %
C29: Zinskosten | E29: =((E26-E26*E28/100)*0.6*'1_Grunddaten_Gebäudekosten'!D10/100)+(E26*E28/100*'1_Grunddaten_Gebäudekosten'!D10/100) -> 4800 | F29: Fr./Jahr
C30: Versicherung und Steuern | E30: 2000 | F30: Fr./Jahr
C31: Gebäudekosten | E31: 2000 | F31: Fr./Jahr
B33: Variable Kosten total (pro Jahr) | L33: =SUM(E34:E37)/E12*E11*E10 -> 6256.1667 | M33: =N33*E7 -> 62.561667 | N33: =L33/E7/E11 -> 0.012512333
C34: Treibstoffkosten | E34: =E12/100*E9*E8 -> 6400 | F34: Fr./Jahr
C35: Reparaturkosten | E35: =(E26*E13/100/E27) -> 10416.667 | F35: Fr./Jahr
C36: LSVA | E36: =IF(E6="Euro 1", E12*0.031*E5,IF(E6="Euro 2",E12*E5*0.0279,IF(E6="Euro 3",E12*E5*0.0279,IF(E6="Euro 4",E12*E5*0.0269,IF(E6="Euro 5",E12*E5*0.0269,IF(E6="Euro 6",E12*E5*0.0228,0)))))) -> 8208 | F36: Fr./Jahr
C37: Weitere Kosten | F37: Fr./Jahr
L38: pro Jahr | M38: Lieferung | N38: kg
A39: Total Transportkosten | L39: =SUM(L17,L24,L33) -> 19193.667 | M39: =SUM(M17,M24,M33) -> 191.93667 | N39: =SUM(N17,N24,N33) -> 0.038387333

Sheet 6_Auswertung
A1: Auswertung | E1: Produkt: | F1: ='2_Lagerkosten'!F1:G1 -> Zwiebeln im 1-kg-Netz
A3: Lagerkosten | G3: =SUM(E4:E7) -> 0.13766655 | H3: Fr./kg | I3: =100/G27*G3/100 -> 0.25214173
B4: Arbeit | E4: ='2_Lagerkosten'!M10 -> 0.0064145455 | F4: Fr./kg
B5: Maschinen | E5: ='2_Lagerkosten'!M18 -> 0.0042145455 | F5: Fr./kg
B6: Infrastruktur und Einrichtung | E6: ='2_Lagerkosten'!M25+'2_Lagerkosten'!M27 -> 0.082521091 | F6: Fr./kg
B7: Hilfsmittel und übrige Kosten | E7: ='2_Lagerkosten'!M36+'2_Lagerkosten'!M40+'2_Lagerkosten'!M47+'2_Lagerkosten'!M53 -> 0.044516364 | F7: Fr./kg
A9: Rüstkosten | G9: =SUM(E10:E13) -> 0.044933333 | H9: Fr./kg | I9: =100/G27*G9/100 -> 0.08229718
B10: Arbeit | E10: ='3_Rüstkosten'!M10 -> 0.0184 | F10: Fr./kg
B11: Maschinen | E11: ='3_Rüstkosten'!M17 -> 0.00152 | F11: Fr./kg
B12: Infrastruktur und Einrichtung | E12: ='3_Rüstkosten'!M21+'3_Rüstkosten'!M23 -> 0.022713333 | F12: Fr./kg
B13: Hilfsmittel und übrige Kosten | E13: ='3_Rüstkosten'!M31+'3_Rüstkosten'!M35+'3_Rüstkosten'!M37 -> 0.0023 | F13: Fr./kg
A15: Packkosten | G15: =SUM(E16:E21) -> 0.32500152 | H15: Fr./kg | I15: =100/G27*G15/100 -> 0.59525317
B16: Arbeit | E16: ='4_Packkosten'!O11 -> 0.05 | F16: Fr./kg
B17: Maschinen | E17: ='4_Packkosten'!O18 -> 0.0076 | F17: Fr./kg
B18: Infrastruktur und Einrichtung | E18: ='4_Packkosten'!O22+'4_Packkosten'!O31 -> 0.071887619 | F18: Fr./kg
B19: Hilfsmittel und übrige Kosten | E19: ='4_Packkosten'!O38+'4_Packkosten'!O40+'4_Packkosten'!O46+'4_Packkosten'!O50 -> 0.13242857 | F19: Fr./kg
B20: Abfälle und Verluste | E20: ='4_Packkosten'!O54 -> 0.042 | F20: Fr./kg
B21: Kosten Warenausgang | E21: ='4_Packkosten'!O60 -> 0.021085333 | F21: Fr./kg
A23: Transportkosten | G23: =SUM(E24:E25) -> 0.038387333 | H23: Fr./kg | I23: =100/G27*G23/100 -> 0.070307922
B24: Arbeit | E24: ='5_Transportkosten'!N17 -> 0.0121 | F24: Fr./kg
B25: Fahrzeug | E25: ='5_Transportkosten'!N24+'5_Transportkosten'!N33 -> 0.026287333 | F25: Fr./kg
A27: Total | G27: =SUM(G3+G15+G23+G9) -> 0.54598874 | H27: Fr./kg | I27: 1
